BEGIN:VCALENDAR
VERSION:2.0
PRODID:https://www.flomersheim.de//10127884

BEGIN:VTIMEZONE
TZID:CET
BEGIN:DAYLIGHT
TZOFFSETFROM:+0100
TZOFFSETTO:+0200
TZNAME:Central European Summer Time
DTSTART:20260329T020000
RRULE:FREQ=YEARLY;BYDAY=-1SU;BYMONTH=3
END:DAYLIGHT
BEGIN:STANDARD
TZOFFSETFROM:+0200
TZOFFSETTO:+0100
TZNAME:Central European Time
DTSTART:20261025T030000
RRULE:FREQ=YEARLY;BYDAY=-1SU;BYMONTH=10
END:STANDARD
END:VTIMEZONE

BEGIN:VEVENT
UID:10121772.10127884.www.flomersheim.de
LOCATION:Vereinsheim Gartenfeunde
SUMMARY:Jahreshauptversammlung
DESCRIPTION:
CLASS:PUBLIC
DTSTART;TZID=CET:20260508T190000
DTEND;TZID=CET:20260508T190000
DTSTAMP:20260425T202001
END:VEVENT

BEGIN:VEVENT
UID:10121684.10127884.www.flomersheim.de
LOCATION:Flomersheim
SUMMARY:Hofflohmarkt Flomersheim
DESCRIPTION:
CLASS:PUBLIC
DTSTART;TZID=CET:20260509T120000
DTEND;TZID=CET:20260509T170000
DTSTAMP:20260425T202001
END:VEVENT

BEGIN:VEVENT
UID:10124373.10127884.www.flomersheim.de
LOCATION:Falterplatz
SUMMARY:Schlachtfest
DESCRIPTION:
CLASS:PUBLIC
DTSTART;TZID=CET:20260514T100000
DTEND;TZID=CET:20260514T100000
DTSTAMP:20260425T202001
END:VEVENT

BEGIN:VEVENT
UID:10121774.10127884.www.flomersheim.de
LOCATION:Vereinsheim Gartenfeunde
SUMMARY:Frühjahrsfest
DESCRIPTION:
CLASS:PUBLIC
DTSTART;TZID=CET:20260516T150000
DTEND;TZID=CET:20260516T150000
DTSTAMP:20260425T202001
END:VEVENT

BEGIN:VEVENT
UID:10122636.10127884.www.flomersheim.de
LOCATION:Sängerheim, Falterstraße 1
SUMMARY:Öffentliche Sitzung Ortsbeirat
DESCRIPTION:
CLASS:PUBLIC
DTSTART;TZID=CET:20260602T190000
DTEND;TZID=CET:20260602T190000
DTSTAMP:20260425T202001
END:VEVENT

END:VCALENDAR