BEGIN:VCALENDAR
VERSION:2.0
PRODID:https://www.flomersheim.de//10128231

BEGIN:VTIMEZONE
TZID:CET
BEGIN:DAYLIGHT
TZOFFSETFROM:+0100
TZOFFSETTO:+0200
TZNAME:Central European Summer Time
DTSTART:20260329T020000
RRULE:FREQ=YEARLY;BYDAY=-1SU;BYMONTH=3
END:DAYLIGHT
BEGIN:STANDARD
TZOFFSETFROM:+0200
TZOFFSETTO:+0100
TZNAME:Central European Time
DTSTART:20261025T030000
RRULE:FREQ=YEARLY;BYDAY=-1SU;BYMONTH=10
END:STANDARD
END:VTIMEZONE

BEGIN:VEVENT
UID:10123062.10128231.www.flomersheim.de
LOCATION:Abfallbezirk 15
SUMMARY:Altpapier
DESCRIPTION:
CLASS:PUBLIC
DTSTART;VALUE=DATE:20260502
DTSTART;VALUE=DATE:20260502
DTSTAMP:20260425T232232
END:VEVENT

BEGIN:VEVENT
UID:10122990.10128231.www.flomersheim.de
LOCATION:Abfallbezirke 14/15
SUMMARY:Wertstoffe
DESCRIPTION:
CLASS:PUBLIC
DTSTART;VALUE=DATE:20260504
DTSTART;VALUE=DATE:20260504
DTSTAMP:20260425T232232
END:VEVENT

BEGIN:VEVENT
UID:10122909.10128231.www.flomersheim.de
LOCATION:Abfallbezirke 14/15
SUMMARY:Bioabfall
DESCRIPTION:
CLASS:PUBLIC
DTSTART;VALUE=DATE:20260508
DTSTART;VALUE=DATE:20260508
DTSTAMP:20260425T232232
END:VEVENT

BEGIN:VEVENT
UID:10124245.10128231.www.flomersheim.de
LOCATION:Abfallbezirk 15
SUMMARY:Restabfall
DESCRIPTION:
CLASS:PUBLIC
DTSTART;VALUE=DATE:20260516
DTSTART;VALUE=DATE:20260516
DTSTAMP:20260425T232232
END:VEVENT

BEGIN:VEVENT
UID:10122993.10128231.www.flomersheim.de
LOCATION:Abfallbezirke 14/15
SUMMARY:Wertstoffe
DESCRIPTION:
CLASS:PUBLIC
DTSTART;VALUE=DATE:20260518
DTSTART;VALUE=DATE:20260518
DTSTAMP:20260425T232232
END:VEVENT

BEGIN:VEVENT
UID:10122912.10128231.www.flomersheim.de
LOCATION:Abfallbezirke 14/15
SUMMARY:Bioabfall
DESCRIPTION:
CLASS:PUBLIC
DTSTART;VALUE=DATE:20260522
DTSTART;VALUE=DATE:20260522
DTSTAMP:20260425T232232
END:VEVENT

BEGIN:VEVENT
UID:10123064.10128231.www.flomersheim.de
LOCATION:Abfallbezirk 15
SUMMARY:Altpapier
DESCRIPTION:
CLASS:PUBLIC
DTSTART;VALUE=DATE:20260530
DTSTART;VALUE=DATE:20260530
DTSTAMP:20260425T232232
END:VEVENT

BEGIN:VEVENT
UID:10122996.10128231.www.flomersheim.de
LOCATION:Abfallbezirke 14/15
SUMMARY:Wertstoffe
DESCRIPTION:
CLASS:PUBLIC
DTSTART;VALUE=DATE:20260601
DTSTART;VALUE=DATE:20260601
DTSTAMP:20260425T232232
END:VEVENT

BEGIN:VEVENT
UID:10122915.10128231.www.flomersheim.de
LOCATION:Abfallbezirke 14/15
SUMMARY:Bioabfall
DESCRIPTION:
CLASS:PUBLIC
DTSTART;VALUE=DATE:20260606
DTSTART;VALUE=DATE:20260606
DTSTAMP:20260425T232232
END:VEVENT

BEGIN:VEVENT
UID:10124247.10128231.www.flomersheim.de
LOCATION:Abfallbezirk 15
SUMMARY:Restabfall
DESCRIPTION:
CLASS:PUBLIC
DTSTART;VALUE=DATE:20260612
DTSTART;VALUE=DATE:20260612
DTSTAMP:20260425T232232
END:VEVENT

BEGIN:VEVENT
UID:10122999.10128231.www.flomersheim.de
LOCATION:Abfallbezirke 14/15
SUMMARY:Wertstoffe
DESCRIPTION:
CLASS:PUBLIC
DTSTART;VALUE=DATE:20260615
DTSTART;VALUE=DATE:20260615
DTSTAMP:20260425T232232
END:VEVENT

BEGIN:VEVENT
UID:10122918.10128231.www.flomersheim.de
LOCATION:Abfallbezirke 14/15
SUMMARY:Bioabfall
DESCRIPTION:
CLASS:PUBLIC
DTSTART;VALUE=DATE:20260619
DTSTART;VALUE=DATE:20260619
DTSTAMP:20260425T232232
END:VEVENT

BEGIN:VEVENT
UID:10123066.10128231.www.flomersheim.de
LOCATION:Abfallbezirk 15
SUMMARY:Altpapier
DESCRIPTION:
CLASS:PUBLIC
DTSTART;VALUE=DATE:20260626
DTSTART;VALUE=DATE:20260626
DTSTAMP:20260425T232232
END:VEVENT

BEGIN:VEVENT
UID:10123002.10128231.www.flomersheim.de
LOCATION:Abfallbezirke 14/15
SUMMARY:Wertstoffe
DESCRIPTION:
CLASS:PUBLIC
DTSTART;VALUE=DATE:20260629
DTSTART;VALUE=DATE:20260629
DTSTAMP:20260425T232232
END:VEVENT

BEGIN:VEVENT
UID:10122921.10128231.www.flomersheim.de
LOCATION:Abfallbezirke 14/15
SUMMARY:Bioabfall
DESCRIPTION:
CLASS:PUBLIC
DTSTART;VALUE=DATE:20260703
DTSTART;VALUE=DATE:20260703
DTSTAMP:20260425T232232
END:VEVENT

BEGIN:VEVENT
UID:10124249.10128231.www.flomersheim.de
LOCATION:Abfallbezirk 15
SUMMARY:Restabfall
DESCRIPTION:
CLASS:PUBLIC
DTSTART;VALUE=DATE:20260710
DTSTART;VALUE=DATE:20260710
DTSTAMP:20260425T232232
END:VEVENT

BEGIN:VEVENT
UID:10123005.10128231.www.flomersheim.de
LOCATION:Abfallbezirke 14/15
SUMMARY:Wertstoffe
DESCRIPTION:
CLASS:PUBLIC
DTSTART;VALUE=DATE:20260713
DTSTART;VALUE=DATE:20260713
DTSTAMP:20260425T232232
END:VEVENT

BEGIN:VEVENT
UID:10122924.10128231.www.flomersheim.de
LOCATION:Abfallbezirke 14/15
SUMMARY:Bioabfall
DESCRIPTION:
CLASS:PUBLIC
DTSTART;VALUE=DATE:20260717
DTSTART;VALUE=DATE:20260717
DTSTAMP:20260425T232232
END:VEVENT

BEGIN:VEVENT
UID:10123068.10128231.www.flomersheim.de
LOCATION:Abfallbezirk 15
SUMMARY:Altpapier
DESCRIPTION:
CLASS:PUBLIC
DTSTART;VALUE=DATE:20260724
DTSTART;VALUE=DATE:20260724
DTSTAMP:20260425T232232
END:VEVENT

BEGIN:VEVENT
UID:10123008.10128231.www.flomersheim.de
LOCATION:Abfallbezirke 14/15
SUMMARY:Wertstoffe
DESCRIPTION:
CLASS:PUBLIC
DTSTART;VALUE=DATE:20260727
DTSTART;VALUE=DATE:20260727
DTSTAMP:20260425T232232
END:VEVENT

BEGIN:VEVENT
UID:10122927.10128231.www.flomersheim.de
LOCATION:Abfallbezirke 14/15
SUMMARY:Bioabfall
DESCRIPTION:
CLASS:PUBLIC
DTSTART;VALUE=DATE:20260731
DTSTART;VALUE=DATE:20260731
DTSTAMP:20260425T232232
END:VEVENT

BEGIN:VEVENT
UID:10124251.10128231.www.flomersheim.de
LOCATION:Abfallbezirk 15
SUMMARY:Restabfall
DESCRIPTION:
CLASS:PUBLIC
DTSTART;VALUE=DATE:20260807
DTSTART;VALUE=DATE:20260807
DTSTAMP:20260425T232232
END:VEVENT

BEGIN:VEVENT
UID:10123011.10128231.www.flomersheim.de
LOCATION:Abfallbezirke 14/15
SUMMARY:Wertstoffe
DESCRIPTION:
CLASS:PUBLIC
DTSTART;VALUE=DATE:20260810
DTSTART;VALUE=DATE:20260810
DTSTAMP:20260425T232232
END:VEVENT

BEGIN:VEVENT
UID:10122930.10128231.www.flomersheim.de
LOCATION:Abfallbezirke 14/15
SUMMARY:Bioabfall
DESCRIPTION:
CLASS:PUBLIC
DTSTART;VALUE=DATE:20260814
DTSTART;VALUE=DATE:20260814
DTSTAMP:20260425T232232
END:VEVENT

BEGIN:VEVENT
UID:10123070.10128231.www.flomersheim.de
LOCATION:Abfallbezirk 15
SUMMARY:Altpapier
DESCRIPTION:
CLASS:PUBLIC
DTSTART;VALUE=DATE:20260821
DTSTART;VALUE=DATE:20260821
DTSTAMP:20260425T232232
END:VEVENT

BEGIN:VEVENT
UID:10123014.10128231.www.flomersheim.de
LOCATION:Abfallbezirke 14/15
SUMMARY:Wertstoffe
DESCRIPTION:
CLASS:PUBLIC
DTSTART;VALUE=DATE:20260824
DTSTART;VALUE=DATE:20260824
DTSTAMP:20260425T232232
END:VEVENT

BEGIN:VEVENT
UID:10122933.10128231.www.flomersheim.de
LOCATION:Abfallbezirke 14/15
SUMMARY:Bioabfall
DESCRIPTION:
CLASS:PUBLIC
DTSTART;VALUE=DATE:20260828
DTSTART;VALUE=DATE:20260828
DTSTAMP:20260425T232232
END:VEVENT

BEGIN:VEVENT
UID:10124253.10128231.www.flomersheim.de
LOCATION:Abfallbezirk 15
SUMMARY:Restabfall
DESCRIPTION:
CLASS:PUBLIC
DTSTART;VALUE=DATE:20260904
DTSTART;VALUE=DATE:20260904
DTSTAMP:20260425T232232
END:VEVENT

BEGIN:VEVENT
UID:10123017.10128231.www.flomersheim.de
LOCATION:Abfallbezirke 14/15
SUMMARY:Wertstoffe
DESCRIPTION:
CLASS:PUBLIC
DTSTART;VALUE=DATE:20260907
DTSTART;VALUE=DATE:20260907
DTSTAMP:20260425T232232
END:VEVENT

BEGIN:VEVENT
UID:10122936.10128231.www.flomersheim.de
LOCATION:Abfallbezirke 14/15
SUMMARY:Bioabfall
DESCRIPTION:
CLASS:PUBLIC
DTSTART;VALUE=DATE:20260911
DTSTART;VALUE=DATE:20260911
DTSTAMP:20260425T232232
END:VEVENT

BEGIN:VEVENT
UID:10123072.10128231.www.flomersheim.de
LOCATION:Abfallbezirk 15
SUMMARY:Altpapier
DESCRIPTION:
CLASS:PUBLIC
DTSTART;VALUE=DATE:20260918
DTSTART;VALUE=DATE:20260918
DTSTAMP:20260425T232232
END:VEVENT

BEGIN:VEVENT
UID:10123020.10128231.www.flomersheim.de
LOCATION:Abfallbezirke 14/15
SUMMARY:Wertstoffe
DESCRIPTION:
CLASS:PUBLIC
DTSTART;VALUE=DATE:20260921
DTSTART;VALUE=DATE:20260921
DTSTAMP:20260425T232232
END:VEVENT

BEGIN:VEVENT
UID:10122939.10128231.www.flomersheim.de
LOCATION:Abfallbezirke 14/15
SUMMARY:Bioabfall
DESCRIPTION:
CLASS:PUBLIC
DTSTART;VALUE=DATE:20260925
DTSTART;VALUE=DATE:20260925
DTSTAMP:20260425T232232
END:VEVENT

BEGIN:VEVENT
UID:10124255.10128231.www.flomersheim.de
LOCATION:Abfallbezirk 15
SUMMARY:Restabfall
DESCRIPTION:
CLASS:PUBLIC
DTSTART;VALUE=DATE:20261002
DTSTART;VALUE=DATE:20261002
DTSTAMP:20260425T232232
END:VEVENT

BEGIN:VEVENT
UID:10123023.10128231.www.flomersheim.de
LOCATION:Abfallbezirke 14/15
SUMMARY:Wertstoffe
DESCRIPTION:
CLASS:PUBLIC
DTSTART;VALUE=DATE:20261005
DTSTART;VALUE=DATE:20261005
DTSTAMP:20260425T232232
END:VEVENT

BEGIN:VEVENT
UID:10122942.10128231.www.flomersheim.de
LOCATION:Abfallbezirke 14/15
SUMMARY:Bioabfall
DESCRIPTION:
CLASS:PUBLIC
DTSTART;VALUE=DATE:20261009
DTSTART;VALUE=DATE:20261009
DTSTAMP:20260425T232232
END:VEVENT

BEGIN:VEVENT
UID:10123074.10128231.www.flomersheim.de
LOCATION:Abfallbezirk 15
SUMMARY:Altpapier
DESCRIPTION:
CLASS:PUBLIC
DTSTART;VALUE=DATE:20261016
DTSTART;VALUE=DATE:20261016
DTSTAMP:20260425T232232
END:VEVENT

BEGIN:VEVENT
UID:10123026.10128231.www.flomersheim.de
LOCATION:Abfallbezirke 14/15
SUMMARY:Wertstoffe
DESCRIPTION:
CLASS:PUBLIC
DTSTART;VALUE=DATE:20261019
DTSTART;VALUE=DATE:20261019
DTSTAMP:20260425T232232
END:VEVENT

BEGIN:VEVENT
UID:10122945.10128231.www.flomersheim.de
LOCATION:Abfallbezirke 14/15
SUMMARY:Bioabfall
DESCRIPTION:
CLASS:PUBLIC
DTSTART;VALUE=DATE:20261023
DTSTART;VALUE=DATE:20261023
DTSTAMP:20260425T232232
END:VEVENT

BEGIN:VEVENT
UID:10124257.10128231.www.flomersheim.de
LOCATION:Abfallbezirk 15
SUMMARY:Restabfall
DESCRIPTION:
CLASS:PUBLIC
DTSTART;VALUE=DATE:20261030
DTSTART;VALUE=DATE:20261030
DTSTAMP:20260425T232232
END:VEVENT

BEGIN:VEVENT
UID:10123029.10128231.www.flomersheim.de
LOCATION:Abfallbezirke 14/15
SUMMARY:Wertstoffe
DESCRIPTION:
CLASS:PUBLIC
DTSTART;VALUE=DATE:20261102
DTSTART;VALUE=DATE:20261102
DTSTAMP:20260425T232232
END:VEVENT

BEGIN:VEVENT
UID:10122948.10128231.www.flomersheim.de
LOCATION:Abfallbezirke 14/15
SUMMARY:Bioabfall
DESCRIPTION:
CLASS:PUBLIC
DTSTART;VALUE=DATE:20261106
DTSTART;VALUE=DATE:20261106
DTSTAMP:20260425T232232
END:VEVENT

BEGIN:VEVENT
UID:10123076.10128231.www.flomersheim.de
LOCATION:Abfallbezirk 15
SUMMARY:Altpapier
DESCRIPTION:
CLASS:PUBLIC
DTSTART;VALUE=DATE:20261113
DTSTART;VALUE=DATE:20261113
DTSTAMP:20260425T232232
END:VEVENT

BEGIN:VEVENT
UID:10123051.10128231.www.flomersheim.de
LOCATION:Kerweplatz
SUMMARY:Grünabfallsammlung mit Containern
DESCRIPTION:
CLASS:PUBLIC
DTSTART;VALUE=DATE:20261114
DTSTART;VALUE=DATE:20261114
DTSTAMP:20260425T232232
END:VEVENT

BEGIN:VEVENT
UID:10123032.10128231.www.flomersheim.de
LOCATION:Abfallbezirke 14/15
SUMMARY:Wertstoffe
DESCRIPTION:
CLASS:PUBLIC
DTSTART;VALUE=DATE:20261116
DTSTART;VALUE=DATE:20261116
DTSTAMP:20260425T232232
END:VEVENT

BEGIN:VEVENT
UID:10122951.10128231.www.flomersheim.de
LOCATION:Abfallbezirke 14/15
SUMMARY:Bioabfall
DESCRIPTION:
CLASS:PUBLIC
DTSTART;VALUE=DATE:20261120
DTSTART;VALUE=DATE:20261120
DTSTAMP:20260425T232232
END:VEVENT

BEGIN:VEVENT
UID:10124259.10128231.www.flomersheim.de
LOCATION:Abfallbezirk 15
SUMMARY:Restabfall
DESCRIPTION:
CLASS:PUBLIC
DTSTART;VALUE=DATE:20261127
DTSTART;VALUE=DATE:20261127
DTSTAMP:20260425T232232
END:VEVENT

BEGIN:VEVENT
UID:10123035.10128231.www.flomersheim.de
LOCATION:Abfallbezirke 14/15
SUMMARY:Wertstoffe
DESCRIPTION:
CLASS:PUBLIC
DTSTART;VALUE=DATE:20261130
DTSTART;VALUE=DATE:20261130
DTSTAMP:20260425T232232
END:VEVENT

BEGIN:VEVENT
UID:10122954.10128231.www.flomersheim.de
LOCATION:Abfallbezirke 14/15
SUMMARY:Bioabfall
DESCRIPTION:
CLASS:PUBLIC
DTSTART;VALUE=DATE:20261204
DTSTART;VALUE=DATE:20261204
DTSTAMP:20260425T232232
END:VEVENT

BEGIN:VEVENT
UID:10123078.10128231.www.flomersheim.de
LOCATION:Abfallbezirk 15
SUMMARY:Altpapier
DESCRIPTION:
CLASS:PUBLIC
DTSTART;VALUE=DATE:20261211
DTSTART;VALUE=DATE:20261211
DTSTAMP:20260425T232232
END:VEVENT

BEGIN:VEVENT
UID:10123038.10128231.www.flomersheim.de
LOCATION:Abfallbezirke 14/15
SUMMARY:Wertstoffe
DESCRIPTION:
CLASS:PUBLIC
DTSTART;VALUE=DATE:20261214
DTSTART;VALUE=DATE:20261214
DTSTAMP:20260425T232232
END:VEVENT

BEGIN:VEVENT
UID:10122957.10128231.www.flomersheim.de
LOCATION:Abfallbezirke 14/15
SUMMARY:Bioabfall
DESCRIPTION:
CLASS:PUBLIC
DTSTART;VALUE=DATE:20261218
DTSTART;VALUE=DATE:20261218
DTSTAMP:20260425T232232
END:VEVENT

BEGIN:VEVENT
UID:10124261.10128231.www.flomersheim.de
LOCATION:Abfallbezirk 15
SUMMARY:Restabfall
DESCRIPTION:
CLASS:PUBLIC
DTSTART;VALUE=DATE:20261224
DTSTART;VALUE=DATE:20261224
DTSTAMP:20260425T232232
END:VEVENT

BEGIN:VEVENT
UID:10123041.10128231.www.flomersheim.de
LOCATION:Abfallbezirke 14/15
SUMMARY:Wertstoffe
DESCRIPTION:
CLASS:PUBLIC
DTSTART;VALUE=DATE:20261228
DTSTART;VALUE=DATE:20261228
DTSTAMP:20260425T232232
END:VEVENT

END:VCALENDAR