BEGIN:VCALENDAR
VERSION:2.0
PRODID:https://www.flomersheim.de//10128525

BEGIN:VTIMEZONE
TZID:CET
BEGIN:DAYLIGHT
TZOFFSETFROM:+0100
TZOFFSETTO:+0200
TZNAME:Central European Summer Time
DTSTART:20260329T020000
RRULE:FREQ=YEARLY;BYDAY=-1SU;BYMONTH=3
END:DAYLIGHT
BEGIN:STANDARD
TZOFFSETFROM:+0200
TZOFFSETTO:+0100
TZNAME:Central European Time
DTSTART:20261025T030000
RRULE:FREQ=YEARLY;BYDAY=-1SU;BYMONTH=10
END:STANDARD
END:VTIMEZONE

BEGIN:VEVENT
UID:10124411.10128525.www.flomersheim.de
LOCATION:TCF Gelände
SUMMARY:Schleifchenturnier Erwachsene
DESCRIPTION:
CLASS:PUBLIC
DTSTART;TZID=CET:20260419T100000
DTEND;TZID=CET:20260419T100000
DTSTAMP:20260425T215915
END:VEVENT

BEGIN:VEVENT
UID:10124414.10128525.www.flomersheim.de
LOCATION:TCF Gelände
SUMMARY:Mixed-Turnier
DESCRIPTION:
CLASS:PUBLIC
DTSTART;TZID=CET:20260816T100000
DTEND;TZID=CET:20260816T100000
DTSTAMP:20260425T215915
END:VEVENT

BEGIN:VEVENT
UID:10124416.10128525.www.flomersheim.de
LOCATION:TCF Gelände
SUMMARY:Zwiwwelcup
DESCRIPTION:
CLASS:PUBLIC
DTSTART;VALUE=DATE:20260903
DTSTART;VALUE=DATE:20260903
DTSTAMP:20260425T215915
END:VEVENT

BEGIN:VEVENT
UID:10124418.10128525.www.flomersheim.de
LOCATION:TCF Gelände
SUMMARY:Stadtpokal Frankenthal
DESCRIPTION:
CLASS:PUBLIC
DTSTART;VALUE=DATE:20260919
DTSTART;VALUE=DATE:20260919
DTSTAMP:20260425T215915
END:VEVENT

BEGIN:VEVENT
UID:10124420.10128525.www.flomersheim.de
LOCATION:TCF Gelände
SUMMARY:Alt und Jung Turnier
DESCRIPTION:
CLASS:PUBLIC
DTSTART;TZID=CET:20261018T100000
DTEND;TZID=CET:20261018T100000
DTSTAMP:20260425T215915
END:VEVENT

END:VCALENDAR