BEGIN:VCALENDAR
VERSION:2.0
PRODID:https://www.flomersheim.de//10145209

BEGIN:VTIMEZONE
TZID:CET
BEGIN:DAYLIGHT
TZOFFSETFROM:+0100
TZOFFSETTO:+0200
TZNAME:Central European Summer Time
DTSTART:20260329T020000
RRULE:FREQ=YEARLY;BYDAY=-1SU;BYMONTH=3
END:DAYLIGHT
BEGIN:STANDARD
TZOFFSETFROM:+0200
TZOFFSETTO:+0100
TZNAME:Central European Time
DTSTART:20261025T030000
RRULE:FREQ=YEARLY;BYDAY=-1SU;BYMONTH=10
END:STANDARD
END:VTIMEZONE

BEGIN:VEVENT
UID:10122636.10145209.www.flomersheim.de
LOCATION:Sängerheim, Falterstraße 1
SUMMARY:Öffentliche Sitzung Ortsbeirat
DESCRIPTION:
CLASS:PUBLIC
DTSTART;TZID=CET:20260602T190000
DTEND;TZID=CET:20260602T190000
DTSTAMP:20260425T233915
END:VEVENT

BEGIN:VEVENT
UID:10122641.10145209.www.flomersheim.de
LOCATION:Sängerheim, Falterstraße 1
SUMMARY:Öffentliche Sitzung Ortsbeirat
DESCRIPTION:
CLASS:PUBLIC
DTSTART;TZID=CET:20260915T190000
DTEND;TZID=CET:20260915T190000
DTSTAMP:20260425T233915
END:VEVENT

BEGIN:VEVENT
UID:10122644.10145209.www.flomersheim.de
LOCATION:Sängerheim, Falterstraße 1
SUMMARY:Öffentliche Sitzung Ortsbeirat
DESCRIPTION:
CLASS:PUBLIC
DTSTART;TZID=CET:20261117T190000
DTEND;TZID=CET:20261117T190000
DTSTAMP:20260425T233915
END:VEVENT

END:VCALENDAR